BEGIN:VCALENDAR
VERSION:2.0
PRODID:-//Satakunta Events//EN
CALSCALE:GREGORIAN
METHOD:PUBLISH
BEGIN:VEVENT
UID:7bb8a971c727debc21c9b93823ad3364@satakunta-events
DTSTAMP:20260422T135648Z
DTSTART:20260422T140000Z
DTEND:20260422T150000Z
SUMMARY:Yleisötilaisuus Justeerin asemakaavamuutos
DESCRIPTION:Kankaanpään kaupunki järjestää yleisötilaisuuden koskien Justeerin asuinalueen asemakaavamuutosta. Asemakaavan muutos koskee Kankaanpään kaupungin 9. kaupunginosan (Kärki) osaa korttelista 731 sekä katualuetta. Alue rajautuu pohjoisessa Myllärintiehen\, Kuninkaanlähteenkatuun ja Justeerinpuistoon. Etelässä alue rajautuu Kärjenpuistoon. Alueen pinta-ala on noin 4\,9 ha.\n\nJusteerin asemakaavamuutoksen vireille tulosta on julkisesti ilmoitettu 9.10.2025. Osallistumis- ja arviointisuunnitelma pidettiin julkisesti nähtävillä 9.10.-6.11.2025. Asemakaavamuutoksen luonnos oli julkisesti nähtävillä 5.3.-2.4.2026.\n\nAsemakaavamuutoksen keskeisenä tavoitteena on laatia alueelle asemakaava\, joka turvaa suunnittelualueen asumisen edellytykset sekä mahdollistaa monipuolisen asumisrakenteen kehittymisen alueella. Lisäksi suunnittelutyön tavoitteena on varmistaa riittävien kulttuuriympäristöllisten arvojen sekä luonnon monimuotoisuuden kannalta tärkeiden viheryhteyksien säilyminen. Tavoitteita edistetään osoittamalla suunnittelualueelle kaavamääräysten avulla uusia asumismahdollisuuksia sekä huomioimalla alueen alkuperäisen rakentamisen osittainen säilyminen riittävin kaavamääräyksin.\n\nTilaisuus järjestetään 22.4.2026 klo 17.00 alkaen Kankaanpään kaupungintalon valtuustosalissa osoitteessa Kuninkaanlähteenkatu 12\, 38700 Kankaanpää.\nTilaisuus on kaikille avoin.\n\nLisätietoja antaa: Kaupunkisuunnittelupäällikkö Elma Mettälä\, p. 044 577 2732 elma.mettala@kankaanpaa.fi
LOCATION:Kuninkaanlähteenkatu 12 1\, 38700 Kankaanpää
URL;VALUE=URI:https://www.kankaanpaa.fi/tapahtuma/?se_ics=system%3A7EUZQgVHaW&se_id=system%3A7EUZQgVHaW
END:VEVENT
END:VCALENDAR