BEGIN:VCALENDAR
VERSION:2.0
PRODID:-//Satakunta Events//EN
CALSCALE:GREGORIAN
METHOD:PUBLISH
BEGIN:VEVENT
UID:d376fc79d53ca88a796cb23497b3a4b7@satakunta-events
DTSTAMP:20260420T164509Z
DTSTART:20260421T160000Z
DTEND:20260421T170000Z
SUMMARY:Sellistien Kevätsoittajaiset
DESCRIPTION:Vertti Viitasaaren opiskelijoiden konsertti Aspinsalissa\, tervetuloa!
LOCATION:Opistonkatu 5\, 38700 Kankaanpää
URL;VALUE=URI:https://www.kankaanpaa.fi/tapahtuma/?se_ics=system%3A7LXknsPl0G&se_id=system%3A7LXknsPl0G
END:VEVENT
END:VCALENDAR