BEGIN:VCALENDAR
VERSION:2.0
PRODID:-//Satakunta Events//EN
CALSCALE:GREGORIAN
METHOD:PUBLISH
BEGIN:VEVENT
UID:865ecf697edcdf0a95e0c931cc4c6488@satakunta-events
DTSTAMP:20260421T115420Z
DTSTART:20260422T110000Z
DTEND:20260422T130000Z
SUMMARY:Hämeen- ja Pohjankankaan historia ja tulevaisuus\, keskustelutilaisuus
DESCRIPTION:Keskustelutilaisuudessa lähestytään Hämeen- ja Pohjankankaan historiaa ja tulevaisuutta arkeologian\, metsäntutkimuksen ja taiteen näkökulmista. Arkeologi\, väitöskirjatutkija Teemu Väisänen\, kuvataiteilija (YAMK) Kirsi Jaakkola ja eläkkeellä oleva biologi (FT)\, luontoproffa Hannu Raitio alustavat aiheesta monialaisesti. Tilaisuus on suunnattu luovan alan toimijoille\, matkailualan yrittäjille ja yhdistyksille sekä kaikille alueen kehittämisestä kiinnostuneille.\nTeemu Väisänen on arkeologi ja Turun yliopiston väitöskirjatut-kija\, jonka väitöskirja käsittelee sodanaikaisten lentokenttien materiaalista kulttuuria. Sota-ajan ohella Väisänen tutkii Satakunnan esihistoriaa ja on toteuttanut kaikille avoimia yleisökaivauksia muun muassa Porissa\, Pomarkussa\, Harjaval-lassa ja Ulvilassa.\nKirsi Jaakkola
LOCATION:Paasikivenkatu 24\, 38700 Kankaanpää
URL;VALUE=URI:https://www.kankaanpaa.fi/tapahtuma/?se_ics=system%3A8R0f1iSLZE&se_id=system%3A8R0f1iSLZE
END:VEVENT
END:VCALENDAR