BEGIN:VCALENDAR
VERSION:2.0
PRODID:-//Satakunta Events//EN
CALSCALE:GREGORIAN
METHOD:PUBLISH
BEGIN:VEVENT
UID:0502379848164a5c369247d3a3b39174@satakunta-events
DTSTAMP:20260422T141324Z
DTSTART:20260423T160000Z
DTEND:20260423T160000Z
SUMMARY:Laulajien konsertti
DESCRIPTION:Lauluja rakkaudesta ja vähän muustakin - Maria Pirttikankaan lauluoppilaat esiintyvä Aspinsalissa\, vapaa pääsy!
LOCATION:Opistonkatu 5\, 38700 Kankaanpää
URL;VALUE=URI:https://www.kankaanpaa.fi/tapahtuma/?se_ics=system%3ABoNRtHFiGv&se_id=system%3ABoNRtHFiGv
END:VEVENT
END:VCALENDAR