BEGIN:VCALENDAR
VERSION:2.0
PRODID:-//Satakunta Events//EN
CALSCALE:GREGORIAN
METHOD:PUBLISH
BEGIN:VEVENT
UID:3744915b5a818a65ad752ee05216a989@satakunta-events
DTSTAMP:20260422T140504Z
DTSTART:20260422T160000Z
DTEND:20260422T170000Z
SUMMARY:Jousi-ilta
DESCRIPTION:Jousi-ilta Aspinsalissa - vapaa pääsy\, Tervetuloa!
LOCATION:Opistonkatu 5\, 38700 Kankaanpää
URL;VALUE=URI:https://www.kankaanpaa.fi/tapahtuma/?se_ics=system%3ALQ4BbMxPTl&se_id=system%3ALQ4BbMxPTl
END:VEVENT
END:VCALENDAR