BEGIN:VCALENDAR
VERSION:2.0
PRODID:-//Satakunta Events//EN
CALSCALE:GREGORIAN
METHOD:PUBLISH
BEGIN:VEVENT
UID:e04113c6ba389d2f837b9a5fd19065d5@satakunta-events
DTSTAMP:20260423T141226Z
DTSTART:20260424T080000Z
DTEND:20260424T140000Z
SUMMARY:Keväthuoltopäivä
DESCRIPTION:Tervetuloa Kankaanpään automekaanikkojen keväthuoltopäivään perjantaina 24.4.2026 klo 11-17!\n\nKahvitarjoilu klo 11-17\, Makkaratarjoilu klo 11-14\,  Lakumyynti\nPäivän aikana:\nÖljynvaihto ilman ajanvarausta 20€ (sis. työn\, tarvikkeet veloitetaan erikseen)\nIlmastointihuolto ilman ajanvarausta alk. 29€\nPäivän aikana varatut huollot -10% (työt ja varaosat)\n\nPerheen pienimmille pomppulinna ja liukumäki\n\nPäivän aikana voit osallistua arvontaan ja voittaa 200€ lahjakortin Kankaanpään automekaanikoille.
LOCATION:Tampionkatu 16\, 38700 Kankaanpää
URL;VALUE=URI:https://www.kankaanpaa.fi/tapahtuma/?se_ics=system%3Ajn7r6Oyj0d&se_id=system%3Ajn7r6Oyj0d
END:VEVENT
END:VCALENDAR