BEGIN:VCALENDAR
VERSION:2.0
PRODID:-//Satakunta Events//EN
CALSCALE:GREGORIAN
METHOD:PUBLISH
BEGIN:VEVENT
UID:04d80f605d590388c6a77c9f098da165@satakunta-events
DTSTAMP:20260423T140949Z
DTSTART:20260426T130000Z
DTEND:20260426T140000Z
SUMMARY:AMYRIT 10 V. - juhlakonsertti
DESCRIPTION:Soiton riemua jo 10 vuotta - juhlakonsertti Kankaanpääsalissa. Johtaa Anna-Mari Yrjänä.\nVapaa pääsy - maksullinen kahvitarjoilu/Kankaanpään Korpiveikot.
LOCATION:Kangasmoisionkatu 1\, 38700 Kankaanpää
URL;VALUE=URI:https://www.kankaanpaa.fi/tapahtuma/?se_ics=system%3AnQmmPDV4V0&se_id=system%3AnQmmPDV4V0
END:VEVENT
END:VCALENDAR