BEGIN:VCALENDAR
VERSION:2.0
PRODID:-//Satakunta Events//EN
CALSCALE:GREGORIAN
METHOD:PUBLISH
BEGIN:VEVENT
UID:c9f2d672966877022fd04e7da279ca2f@satakunta-events
DTSTAMP:20260420T163614Z
DTSTART:20260421T150000Z
DTEND:20260421T160000Z
SUMMARY:Sydänliiton verkkoluennon katselutilaisuus
DESCRIPTION:Sydänliiton verkkoluennon katselutilaisuus 21.4. klo 18 Järjestötalolla - aiheena Sydänpotilaan tahdistinhoito.\nLuennoitsijana kardiologian erikoislääkäri Pirjo Posio Tampereen Sydänsairaalasta.\nKahvitarjoilu ennen luennon alkua.\nTilaisuus on maksuton ja kaikille avoin. Sydämellisesti tervetuloa!
LOCATION:Taipaleenkatu 5\, 38700 Kankaanpää
URL;VALUE=URI:https://www.kankaanpaa.fi/tapahtuma/?se_ics=system%3ArHUwr4Go6f&se_id=system%3ArHUwr4Go6f
END:VEVENT
END:VCALENDAR