BEGIN:VCALENDAR
VERSION:2.0
PRODID:-//Satakunta Events//EN
CALSCALE:GREGORIAN
METHOD:PUBLISH
BEGIN:VEVENT
UID:375139b6e534875c4468cca5a2e05f88@satakunta-events
DTSTAMP:20260420T162558Z
DTSTART:20260420T150000Z
DTEND:20260420T163000Z
SUMMARY:Hippo-suunnistuskoulu
DESCRIPTION:Kankaanpään Suunnistajien suunnistuskoulu lapsille ja heidän vanhemmilleen. Suunnistuskoulu alkaa ma 20.4. ja jatkuu sen jälkeen viikoittain kevään ajan. Katso lisätietoja seuran sivulta www.kansu.fi.
LOCATION:Karjalankatu 7\, 38700 Kankaanpää
URL;VALUE=URI:https://www.kankaanpaa.fi/tapahtuma/?se_ics=system%3AuTLbcEhw1J&se_id=system%3AuTLbcEhw1J
END:VEVENT
END:VCALENDAR