BEGIN:VCALENDAR
VERSION:2.0
PRODID:-//Satakunta Events//EN
CALSCALE:GREGORIAN
METHOD:PUBLISH
BEGIN:VEVENT
UID:ecf557fe6499bd5ef9a18d5f5afeb2fe@satakunta-events
DTSTAMP:20260420T162437Z
DTSTART:20260421T143000Z
DTEND:20260421T170000Z
SUMMARY:Arki turvassa -kyläturvailta Honkajoella
DESCRIPTION:Illan aikana mm. kuullaan ja keskustellaan varautumisesta\, väestönsuojelusta\, Vapepa-toiminnasta sekä Arki turvassa –hankkeesta. Kahvitus klo 17.30.\n\nOhjelma klo 18 alkaen: \n* Tilaisuuden avaus\n* Arki turvassa -hankkeen esittely\, hankkeen projektipäällikkö\n* Väestönsuojelu ja varautuminen\, Satakunnan Pelastuslaitos\n* Vapepa-toiminnan esittely\, Juhani Salonsaari\n* Kylävarakonsepti\n\nKenelle:\n• kaikille kyläläisille ja yhdistyksille – tule yksin tai yhdessä!\n• Ilmoittautuminen etukäteen on suotavaa\, mutta ei pakollista.\n\nIlmoittautuminen 20.4. mennessä osoitteessa https://link.webropolsurveys.com/EP/AA3DE8AAEB7CD539\n\nTilaisuuden yhteistyökumppanit: Eläkeliiton Honkajoen yhdistys ry\, Honkajoen Maaseutunaiset ry\, Honkajoen kotiseutuyhdistys ry\, Veteraanit/Tammenlehväläiset\n\nTiedustelut: 044 577 5202 / Ulla Norrbo
LOCATION:Honkalantie 1\, 38950 Honkajoki
URL;VALUE=URI:https://www.kankaanpaa.fi/tapahtuma/?se_ics=system%3Azs1dSR2K2L&se_id=system%3Azs1dSR2K2L
END:VEVENT
END:VCALENDAR